BEGIN:VCALENDAR
VERSION:2.0
PRODID:-//Covenant Living at the Holmstad - ECPv6.15.18//NONSGML v1.0//EN
CALSCALE:GREGORIAN
METHOD:PUBLISH
X-ORIGINAL-URL:https://www.covlivingholmstad.org
X-WR-CALDESC:Events for Covenant Living at the Holmstad
REFRESH-INTERVAL;VALUE=DURATION:PT1H
X-Robots-Tag:noindex
X-PUBLISHED-TTL:PT1H
BEGIN:VTIMEZONE
TZID:America/Chicago
BEGIN:DAYLIGHT
TZOFFSETFROM:-0600
TZOFFSETTO:-0500
TZNAME:CDT
DTSTART:20240310T080000
END:DAYLIGHT
BEGIN:STANDARD
TZOFFSETFROM:-0500
TZOFFSETTO:-0600
TZNAME:CST
DTSTART:20241103T070000
END:STANDARD
BEGIN:DAYLIGHT
TZOFFSETFROM:-0600
TZOFFSETTO:-0500
TZNAME:CDT
DTSTART:20250309T080000
END:DAYLIGHT
BEGIN:STANDARD
TZOFFSETFROM:-0500
TZOFFSETTO:-0600
TZNAME:CST
DTSTART:20251102T070000
END:STANDARD
BEGIN:DAYLIGHT
TZOFFSETFROM:-0600
TZOFFSETTO:-0500
TZNAME:CDT
DTSTART:20260308T080000
END:DAYLIGHT
BEGIN:STANDARD
TZOFFSETFROM:-0500
TZOFFSETTO:-0600
TZNAME:CST
DTSTART:20261101T070000
END:STANDARD
END:VTIMEZONE
BEGIN:VEVENT
DTSTART;TZID=America/Chicago:20251007T110000
DTEND;TZID=America/Chicago:20251007T110000
DTSTAMP:20260420T060717
CREATED:20250811T174051Z
LAST-MODIFIED:20251016T181824Z
UID:10000151-1759834800-1759834800@www.covlivingholmstad.org
SUMMARY:Moving Made Simple With Moving Station and Honoring Aging
DESCRIPTION:From current real estate market and home value trends\, to simple approaches to decluttering\, downsizing and getting your home ready for a sale\, our trusted partners from Moving Station and Honoring Aging will be here with the expertise you need to make your move a breeze.
URL:https://www.covlivingholmstad.org/event/moving-made-simple/
LOCATION:IL
CATEGORIES:General
ATTACH;FMTTYPE=image/jpeg:https://www.covlivingholmstad.org/wp-content/uploads/2025/08/CLH-027-thumbnail_10-7-event.jpg
END:VEVENT
BEGIN:VEVENT
DTSTART;TZID=America/Chicago:20251016T110000
DTEND;TZID=America/Chicago:20251016T110000
DTSTAMP:20260420T060717
CREATED:20250811T174635Z
LAST-MODIFIED:20251017T143115Z
UID:10000153-1760612400-1760612400@www.covlivingholmstad.org
SUMMARY:Discovery Luncheons
DESCRIPTION:Haven’t visited us before? This is a great way to get a feel for what life is really like here. Enjoy a delicious lunch\, meet our residents and discover everything our community offers\, from an engaging lifestyle with fewer worries to priority access to healthcare should you ever need it.
URL:https://www.covlivingholmstad.org/event/discovery-luncheons-16/
LOCATION:IL
CATEGORIES:General
ATTACH;FMTTYPE=image/jpeg:https://www.covlivingholmstad.org/wp-content/uploads/2025/08/CLH-027-thumbnail_10-16-event.jpg
END:VEVENT
END:VCALENDAR