BEGIN:VCALENDAR
VERSION:2.0
PRODID:-//Covenant Living at the Holmstad - ECPv6.15.18//NONSGML v1.0//EN
CALSCALE:GREGORIAN
METHOD:PUBLISH
X-WR-CALNAME:Covenant Living at the Holmstad
X-ORIGINAL-URL:https://www.covlivingholmstad.org
X-WR-CALDESC:Events for Covenant Living at the Holmstad
REFRESH-INTERVAL;VALUE=DURATION:PT1H
X-Robots-Tag:noindex
X-PUBLISHED-TTL:PT1H
BEGIN:VTIMEZONE
TZID:America/Chicago
BEGIN:DAYLIGHT
TZOFFSETFROM:-0600
TZOFFSETTO:-0500
TZNAME:CDT
DTSTART:20240310T080000
END:DAYLIGHT
BEGIN:STANDARD
TZOFFSETFROM:-0500
TZOFFSETTO:-0600
TZNAME:CST
DTSTART:20241103T070000
END:STANDARD
BEGIN:DAYLIGHT
TZOFFSETFROM:-0600
TZOFFSETTO:-0500
TZNAME:CDT
DTSTART:20250309T080000
END:DAYLIGHT
BEGIN:STANDARD
TZOFFSETFROM:-0500
TZOFFSETTO:-0600
TZNAME:CST
DTSTART:20251102T070000
END:STANDARD
BEGIN:DAYLIGHT
TZOFFSETFROM:-0600
TZOFFSETTO:-0500
TZNAME:CDT
DTSTART:20260308T080000
END:DAYLIGHT
BEGIN:STANDARD
TZOFFSETFROM:-0500
TZOFFSETTO:-0600
TZNAME:CST
DTSTART:20261101T070000
END:STANDARD
END:VTIMEZONE
BEGIN:VEVENT
DTSTART;TZID=America/Chicago:20250918T110000
DTEND;TZID=America/Chicago:20250918T110000
DTSTAMP:20260419T103613
CREATED:20250811T174237Z
LAST-MODIFIED:20250811T174610Z
UID:10000152-1758193200-1758193200@www.covlivingholmstad.org
SUMMARY:Discovery Luncheons
DESCRIPTION:Haven’t visited us before? This is a great way to get a feel for what life is really like here. Enjoy a delicious lunch\, meet our residents and discover everything our community offers\, from an engaging lifestyle with fewer worries to priority access to healthcare should you ever need it.
URL:https://www.covlivingholmstad.org/event/discovery-luncheons-18/
LOCATION:IL
CATEGORIES:General
ATTACH;FMTTYPE=image/jpeg:https://www.covlivingholmstad.org/wp-content/uploads/2025/08/CLH-027-thumbnail_9-18-event.jpg
END:VEVENT
END:VCALENDAR