BEGIN:VCALENDAR
VERSION:2.0
PRODID:-//Covenant Living at the Holmstad - ECPv6.15.18//NONSGML v1.0//EN
CALSCALE:GREGORIAN
METHOD:PUBLISH
X-ORIGINAL-URL:https://www.covlivingholmstad.org
X-WR-CALDESC:Events for Covenant Living at the Holmstad
REFRESH-INTERVAL;VALUE=DURATION:PT1H
X-Robots-Tag:noindex
X-PUBLISHED-TTL:PT1H
BEGIN:VTIMEZONE
TZID:America/Chicago
BEGIN:DAYLIGHT
TZOFFSETFROM:-0600
TZOFFSETTO:-0500
TZNAME:CDT
DTSTART:20240310T080000
END:DAYLIGHT
BEGIN:STANDARD
TZOFFSETFROM:-0500
TZOFFSETTO:-0600
TZNAME:CST
DTSTART:20241103T070000
END:STANDARD
BEGIN:DAYLIGHT
TZOFFSETFROM:-0600
TZOFFSETTO:-0500
TZNAME:CDT
DTSTART:20250309T080000
END:DAYLIGHT
BEGIN:STANDARD
TZOFFSETFROM:-0500
TZOFFSETTO:-0600
TZNAME:CST
DTSTART:20251102T070000
END:STANDARD
BEGIN:DAYLIGHT
TZOFFSETFROM:-0600
TZOFFSETTO:-0500
TZNAME:CDT
DTSTART:20260308T080000
END:DAYLIGHT
BEGIN:STANDARD
TZOFFSETFROM:-0500
TZOFFSETTO:-0600
TZNAME:CST
DTSTART:20261101T070000
END:STANDARD
END:VTIMEZONE
BEGIN:VEVENT
DTSTART;TZID=America/Chicago:20250920T090000
DTEND;TZID=America/Chicago:20250920T150000
DTSTAMP:20260420T060917
CREATED:20250811T173904Z
LAST-MODIFIED:20250811T174043Z
UID:10000150-1758358800-1758380400@www.covlivingholmstad.org
SUMMARY:Annual Artisan Bazaar
DESCRIPTION:Get a jump on your holiday shopping during our annual Bazaar! From jewelry and furniture\, to baked goods and more\, all items are handcrafted by our talented resident artisans. Find unique items for everyone on your list and enter our raffle for a chance to win beautiful\, handmade gifts.
URL:https://www.covlivingholmstad.org/event/annual-artisan-bazaar/
LOCATION:IL
CATEGORIES:General
ATTACH;FMTTYPE=image/jpeg:https://www.covlivingholmstad.org/wp-content/uploads/2025/08/CLH-027-thumbnail_9-20-event.jpg
END:VEVENT
END:VCALENDAR